BEGIN:VCALENDAR
VERSION:2.0
PRODID:-//Club Cultural Amics de la Càtedra Dr. Bofill - ECPv6.5.1.5//NONSGML v1.0//EN
CALSCALE:GREGORIAN
METHOD:PUBLISH
X-WR-CALNAME:Club Cultural Amics de la Càtedra Dr. Bofill
X-ORIGINAL-URL:https://clubcatedra.com
X-WR-CALDESC:Esdeveniments per Club Cultural Amics de la Càtedra Dr. Bofill
REFRESH-INTERVAL;VALUE=DURATION:PT1H
X-Robots-Tag:noindex
X-PUBLISHED-TTL:PT1H
BEGIN:VTIMEZONE
TZID:UTC
BEGIN:STANDARD
TZOFFSETFROM:+0000
TZOFFSETTO:+0000
TZNAME:UTC
DTSTART:20240101T000000
END:STANDARD
END:VTIMEZONE
BEGIN:VEVENT
DTSTART;TZID=UTC:20241007T080000
DTEND;TZID=UTC:20241016T170000
DTSTAMP:20260425T230410
CREATED:20240730T093906Z
LAST-MODIFIED:20240730T093906Z
UID:10000011-1728288000-1729098000@clubcatedra.com
SUMMARY:Circuït Sicília 7-16 Octubre 2024
DESCRIPTION:Descobriu aquesta meravellosa illa amb visites a llocs icònics com l’Etna\, Taormina\, Siracusa i Agrigento. Gaudiu de paisatges espectaculars\, riquesa històrica i una gastronomia excepcional. No us perdeu aquesta oportunitat única! \nResum del programa del viatge a Sicília: \nDia 1 (7 oct): Sortida de Girona cap a Barcelona i arribada a Palermo. Trasllat a l’hotel i sopar.\nDia 2 (8 oct): Visita a Cefalú i Milazzo\, arribada a Taormina. Sopar i allotjament.\nDia 3 (9 oct): Excursió a l’Etna i visita a Taormina. Temps lliure i allotjament.\nDia 4 (10 oct): Visita a la Riviera dels Cíclops i Catània. Arribada a Siracusa.\nDia 5 (11 oct): Visita de Siracusa\, Noto i Modica. Sopar i allotjament.\nDia 6 (12 oct): Excursió a Ragusa i visita a Modica\, ciutat de la xocolata.\nDia 7 (13 oct): Visita a Piazza Armerina i Agrigento. Allotjament a Agrigento.\nDia 8 (14 oct): Visites a Selinunte\, Erice i Segesta. Arribada a Palermo.\nDia 9 (15 oct): Visita a Monreale i Palermo. Tarda lliure.\nDia 10 (16 oct): Retorn a Barcelona i trasllat a Girona. Fi del viatge. \nAquí podeu conèixer tot el programa. \nPROGRAMA SENCER \nINSCRIPCIÓ truca al 601 722 584 o envia correu a hola@clubcatedra.com
URL:https://clubcatedra.com/event/circuit-sicilia-7-16-octubre-2024/
LOCATION:Girona
CATEGORIES:Viatges Culturals
ATTACH;FMTTYPE=image/jpeg:https://clubcatedra.com/wp-content/uploads/2024/07/Sicilia.jpg
ORGANIZER;CN="Club Cultural Amics de la C%C3%A0tedra Dr. Bofill":MAILTO:hola@clubcatedra.com
END:VEVENT
END:VCALENDAR